BEGIN:VCALENDAR
VERSION:2.0
PRODID:-//Ortho-Bionomy New England - ECPv6.15.20//NONSGML v1.0//EN
CALSCALE:GREGORIAN
METHOD:PUBLISH
X-WR-CALNAME:Ortho-Bionomy New England
X-ORIGINAL-URL:https://www.ortho-bionomyne.com
X-WR-CALDESC:Events for Ortho-Bionomy New England
REFRESH-INTERVAL;VALUE=DURATION:PT1H
X-Robots-Tag:noindex
X-PUBLISHED-TTL:PT1H
BEGIN:VTIMEZONE
TZID:UTC
BEGIN:STANDARD
TZOFFSETFROM:+0000
TZOFFSETTO:+0000
TZNAME:UTC
DTSTART:20250101T000000
END:STANDARD
END:VTIMEZONE
BEGIN:VEVENT
DTSTART;VALUE=DATE:20260501
DTEND;VALUE=DATE:20260503
DTSTAMP:20260423T130245
CREATED:20251013T234219Z
LAST-MODIFIED:20251013T234219Z
UID:905-1777593600-1777766399@www.ortho-bionomyne.com
SUMMARY:Extremities
DESCRIPTION:Ortho-Bionomy provides a tool for massage therapists to work deeply into tissue while saving their thumbs and bodies from strain. It provides a took for energy workers to address the body physically and structurally without force – gently and respectfully. This foundational class will cover techniques for the shoulders\, ribs\, elbows\, wrists\, hands\, femur rotation\, knees\, ankles and feet. I will cover the history and principles of Ortho-Bionomy. You will learn and practice applying the principles and procedure as you practice the techniques. You will leave able to create and modify techniques to suit your client. You’ll be amazed as tensions relax\, pain subsides\, range of motion improves and wellbeing is restored. Ortho-Bionomy mixes easily with other forms of bodywork\, healthcare and personal growth.
URL:https://www.ortho-bionomyne.com/event/extremities/
LOCATION:Ikier Wellness\, 336 Baker Ave\, Concord\, MA\, 01742\, United States
END:VEVENT
BEGIN:VEVENT
DTSTART;VALUE=DATE:20260605
DTEND;VALUE=DATE:20260607
DTSTAMP:20260423T130245
CREATED:20260412T222105Z
LAST-MODIFIED:20260412T222105Z
UID:920-1780617600-1780790399@www.ortho-bionomyne.com
SUMMARY:Cranial
DESCRIPTION:Cranial\nArthur Lincoln Pauls developed a very effective way of correcting structural imbalances\nin the cranium. Learn to feel the cranium in a 3D way. Using different cranial holds and\nspirals in three dimensions\, learn to help the cranium self correct so structural\nmovement and balance can be reintroduced. When working with the cranium it is\nessential to include the rest of the body\, especially the pelvis\, spine and extremities. It\nis an extraordinarily effective and deep way to address our whole body\, our nervous\nsystem\, our structure\, our flow. I recently deepened my training in Cranial work with\nUrsula Hofer and Jessica Mark. I am excited to share my deepened understanding and\nclarity. The Ortho-Bionomy approach to the Cranium honors the inherent complexity\nwhile being remarkably simple. With these techniques participants will leave class with\neffective tools for a vast myriad of situations and conditions. Working in the cranium is\nunique\, profound and often joyful. I hope you join us!\nPrerequisite: Phase 4 and 5 or permission from the instructor.
URL:https://www.ortho-bionomyne.com/event/cranial/
LOCATION:Ikier Wellness\, 336 Baker Ave\, Concord\, MA\, 01742\, United States
END:VEVENT
BEGIN:VEVENT
DTSTART;VALUE=DATE:20260710
DTEND;VALUE=DATE:20260712
DTSTAMP:20260423T130245
CREATED:20251013T234321Z
LAST-MODIFIED:20251014T160709Z
UID:907-1783641600-1783814399@www.ortho-bionomyne.com
SUMMARY:Phase 6
DESCRIPTION:In Phase 6 we apply the Ortho-Bionomy principles (going with the body) to connecting with the energy field. We explore refining our perception both of ourselves and our relationship with the person on the table. Working with the energy field frees us from the limitations of gravity and physical contact giving us tools to perceive both the whole body and detailed specifics. We will use different phases together exploring how they can enhance our efficiency. We will deepen our understanding of “Right Relationship”\, how we find our own wholeness while relating to others.\nPrerequisite: One Phase 4 and One Phase 5 class or permission from the Instructor.
URL:https://www.ortho-bionomyne.com/event/phase-6/
LOCATION:Ikier Wellness\, 336 Baker Ave\, Concord\, MA\, 01742\, United States
END:VEVENT
BEGIN:VEVENT
DTSTART;VALUE=DATE:20261002
DTEND;VALUE=DATE:20261004
DTSTAMP:20260423T130245
CREATED:20260412T222320Z
LAST-MODIFIED:20260412T222320Z
UID:922-1790899200-1791071999@www.ortho-bionomyne.com
SUMMARY:Langer Lines and Vagus/Phrenic Nerves
DESCRIPTION:Friday will be focused on the Langer Lines. Langer Lines are collagen fibers that affect skin\, muscle\, joints\, organs and scar tissue. In this one day class you will learn the essentials to palpate\, connect and work with these fibers. You will explore fibers that affect a local area as well as connecting through this amazing network to multiple areas interconnected in the body. The network will give your scar and visceral work greater efficacy. \nSaturday will be focused on the Vagus and Phrenic Nerves. The Vagus Nerve is known as the wandering nerve for its wide reaching influence to many sensory and motor functions in the body. The Phrenic Nerve influences several sensory innervations and primary motor function with the diaphragm. Learn how and when to connect comfortably with the client through their structure to support and reset either system or both.
URL:https://www.ortho-bionomyne.com/event/langer-lines-and-vagus-phrenic-nerves/
LOCATION:Ikier Wellness\, 336 Baker Ave\, Concord\, MA\, 01742\, United States
END:VEVENT
END:VCALENDAR